BEGIN:VCALENDAR
VERSION:2.0
PRODID:-//Informationsbolaget - ECPv6.15.17.1//NONSGML v1.0//EN
CALSCALE:GREGORIAN
METHOD:PUBLISH
X-WR-CALNAME:Informationsbolaget
X-ORIGINAL-URL:https://informationsbolaget.se
X-WR-CALDESC:Händelser för Informationsbolaget
REFRESH-INTERVAL;VALUE=DURATION:PT1H
X-Robots-Tag:noindex
X-PUBLISHED-TTL:PT1H
BEGIN:VTIMEZONE
TZID:Europe/Stockholm
BEGIN:DAYLIGHT
TZOFFSETFROM:+0100
TZOFFSETTO:+0200
TZNAME:CEST
DTSTART:20230326T010000
END:DAYLIGHT
BEGIN:STANDARD
TZOFFSETFROM:+0200
TZOFFSETTO:+0100
TZNAME:CET
DTSTART:20231029T010000
END:STANDARD
BEGIN:DAYLIGHT
TZOFFSETFROM:+0100
TZOFFSETTO:+0200
TZNAME:CEST
DTSTART:20240331T010000
END:DAYLIGHT
BEGIN:STANDARD
TZOFFSETFROM:+0200
TZOFFSETTO:+0100
TZNAME:CET
DTSTART:20241027T010000
END:STANDARD
BEGIN:DAYLIGHT
TZOFFSETFROM:+0100
TZOFFSETTO:+0200
TZNAME:CEST
DTSTART:20250330T010000
END:DAYLIGHT
BEGIN:STANDARD
TZOFFSETFROM:+0200
TZOFFSETTO:+0100
TZNAME:CET
DTSTART:20251026T010000
END:STANDARD
END:VTIMEZONE
BEGIN:VEVENT
DTSTART;VALUE=DATE:20241121
DTEND;VALUE=DATE:20241122
DTSTAMP:20260421T015650
CREATED:20241101T125717Z
LAST-MODIFIED:20241101T125842Z
UID:16604-1732147200-1732233599@informationsbolaget.se
SUMMARY:Möjligheterna med brandskyddat trä
DESCRIPTION:Möjligheterna med brandskyddat trä – del 6\nKostnadsfritt webbinarium från NBT! \nFöreningen nordiskt brandskyddat Trä hälsar alla våra medlemmar och alla övriga branschkollegor välkomna till ett inspirerande och lärorikt webbinarium om ”Möjligheterna med brandskyddat trä” Det är 6:e året i rad vi bjuder in till detta webbinarium. Vi kommer på förmiddagen den 21 november under två timmar att få ta del av intressanta och inspirerande föredrag från branschen. Programmet i sin helhet hittar du här nedan. \nAnmäl dig här
URL:https://informationsbolaget.se/evenemang/mojligheterna-med-brandskyddat-tra/
CATEGORIES:Webbinarium
ATTACH;FMTTYPE=image/jpeg:https://informationsbolaget.se/wp-content/uploads/2024/11/nbt24_envt.jpg
END:VEVENT
BEGIN:VEVENT
DTSTART;VALUE=DATE:20241119
DTEND;VALUE=DATE:20241120
DTSTAMP:20260421T015651
CREATED:20241104T124836Z
LAST-MODIFIED:20241104T124836Z
UID:16615-1731974400-1732060799@informationsbolaget.se
SUMMARY:Webbinarium Solcellsbrand
DESCRIPTION:Välkommen till webbinarium Solcellsanläggning\, 19 november 2024 \nUtbildningswebbinarium om Risker\, lärdomar erfarenheter och insatsmetodik vid brand \nAntalet solcellsanläggningar fortsätter att öka. I dag finns närmare 300.000 anläggningar inom bostadssektorn\, industrin och kommunala byggnader. En rapport från Elsäkerhetsverket varnar för att antalet bränder orsakade av solcellsanläggning kommer att öka. \n  \nAnmäl dig här
URL:https://informationsbolaget.se/evenemang/webbinarium-solcellsbrand/
CATEGORIES:Webbinarium
ATTACH;FMTTYPE=image/jpeg:https://informationsbolaget.se/wp-content/uploads/2024/11/solcell_evnt.jpg
ORGANIZER;CN="Informationsbolaget":MAILTO:info@informationsbolaget.se
END:VEVENT
BEGIN:VEVENT
DTSTART;TZID=Europe/Stockholm:20241107T100000
DTEND;TZID=Europe/Stockholm:20241107T120000
DTSTAMP:20260421T015651
CREATED:20241101T115417Z
LAST-MODIFIED:20241101T130253Z
UID:16590-1730973600-1730980800@informationsbolaget.se
SUMMARY:Webbinarium elcykelbatterier
DESCRIPTION:Ny brandrisk inom bostadssektorn och på arbetsplatser\nDet inträffar alltfler bränder som orsakas av elcykelbatterier på laddning. Enbart i Skåne har fem bränder inträffat senaste tiden. Vi inbjuder nu till ett webbinarium om säkerheten vid laddning av cykelbatterier. \nAnmäl dig här
URL:https://informationsbolaget.se/evenemang/webbinarium-elcykelbatterier/
CATEGORIES:Webbinarium
ATTACH;FMTTYPE=image/jpeg:https://informationsbolaget.se/wp-content/uploads/2024/11/cybatt_evnt.jpg
ORGANIZER;CN="Informationsbolaget":MAILTO:info@informationsbolaget.se
END:VEVENT
BEGIN:VEVENT
DTSTART;VALUE=DATE:20241106
DTEND;VALUE=DATE:20241107
DTSTAMP:20260421T015651
CREATED:20241101T123022Z
LAST-MODIFIED:20241101T123811Z
UID:16594-1730851200-1730937599@informationsbolaget.se
SUMMARY:Brandskydd Kulturbyggnad
DESCRIPTION:Brandskydd Kulturbyggnad är en viktig och lärorik informationsdag och mötesplats där vi har samlat representanter från branschen som delar med sig av erfarenheter och berättar hur vi bäst kan skydda landets kulturarv.
URL:https://informationsbolaget.se/evenemang/brandskydd-kulturbyggnad/
LOCATION:Ersta Hotell & Konferens\, Erstagatan 1K\, Stockholm\, 11691\, Sweden
CATEGORIES:Konferens
ATTACH;FMTTYPE=image/jpeg:https://informationsbolaget.se/wp-content/uploads/2024/11/bsk24_evnt.jpg
ORGANIZER;CN="Informationsbolaget":MAILTO:info@informationsbolaget.se
END:VEVENT
END:VCALENDAR